BEGIN:VCALENDAR
VERSION:2.0
PRODID:-//Michaela Raab - ECPv5.2.1//NONSGML v1.0//EN
CALSCALE:GREGORIAN
METHOD:PUBLISH
X-WR-CALNAME:Michaela Raab
X-ORIGINAL-URL:https://michaelaraab.com
X-WR-CALDESC:Events for Michaela Raab
BEGIN:VTIMEZONE
TZID:UTC
BEGIN:STANDARD
TZOFFSETFROM:+0000
TZOFFSETTO:+0000
TZNAME:UTC
DTSTART:20200101T000000
END:STANDARD
END:VTIMEZONE
BEGIN:VEVENT
DTSTART;TZID=UTC:20201218T100000
DTEND;TZID=UTC:20201218T120000
DTSTAMP:20260420T030531
CREATED:20201207T193631Z
LAST-MODIFIED:20201207T193632Z
UID:321-1608285600-1608292800@michaelaraab.com
SUMMARY:Rezital
DESCRIPTION:Züricher Hochschule der Künste\, Großer Konzertsaal
URL:https://michaelaraab.com/termin/rezital/
END:VEVENT
END:VCALENDAR